BEGIN:VCALENDAR
VERSION:2.0
PRODID:-//Hylands Estate - ECPv6.15.20//NONSGML v1.0//EN
CALSCALE:GREGORIAN
METHOD:PUBLISH
X-WR-CALNAME:Hylands Estate
X-ORIGINAL-URL:https://staging.hylandsestate.co.uk
X-WR-CALDESC:Events for Hylands Estate
REFRESH-INTERVAL;VALUE=DURATION:PT1H
X-Robots-Tag:noindex
X-PUBLISHED-TTL:PT1H
BEGIN:VTIMEZONE
TZID:Europe/London
BEGIN:DAYLIGHT
TZOFFSETFROM:+0000
TZOFFSETTO:+0100
TZNAME:BST
DTSTART:20250330T010000
END:DAYLIGHT
BEGIN:STANDARD
TZOFFSETFROM:+0100
TZOFFSETTO:+0000
TZNAME:GMT
DTSTART:20251026T010000
END:STANDARD
BEGIN:DAYLIGHT
TZOFFSETFROM:+0000
TZOFFSETTO:+0100
TZNAME:BST
DTSTART:20260329T010000
END:DAYLIGHT
BEGIN:STANDARD
TZOFFSETFROM:+0100
TZOFFSETTO:+0000
TZNAME:GMT
DTSTART:20261025T010000
END:STANDARD
BEGIN:DAYLIGHT
TZOFFSETFROM:+0000
TZOFFSETTO:+0100
TZNAME:BST
DTSTART:20270328T010000
END:DAYLIGHT
BEGIN:STANDARD
TZOFFSETFROM:+0100
TZOFFSETTO:+0000
TZNAME:GMT
DTSTART:20271031T010000
END:STANDARD
END:VTIMEZONE
BEGIN:VEVENT
DTSTART;TZID=Europe/London:20260425T100000
DTEND;TZID=Europe/London:20260425T170000
DTSTAMP:20260425T024408
CREATED:20221122T103320Z
LAST-MODIFIED:20251127T103721Z
UID:10001276-1777111200-1777136400@staging.hylandsestate.co.uk
SUMMARY:Beginners' Stained Glass Workshop
DESCRIPTION:Spend a fun day learning a new skill and creating your own stained glass project with Hylands Artist Mona Marnell. The day runs from 10.00am to 5.00pm and starts with Mona teaching you how to cut glass safely. Then\, having picked your pattern and the glass you want to use\, Mona will guide you through the cutting\, copper-foiling and soldering processes so by the end of the day you have made a beautiful stained glass creation. \nLunch is not provided\, but across the courtyard we have The Deli café which offers workshop attendees a 20% discount \nPlease wear old clothes or bring an apron as working with glass is fun but messy. \nYou won’t have to pay for parking as you are attending a workshop. Just come straight to the studio on the day with your car registration and Mona will get you put on the system for free. \nPlease Note: Stained glass is a traditional craft. You will be handling and cutting glass as well as using glass grinders. After applying copperfoil to all your glass pieces you will use a soldering iron\, liquid flux and solder to join the pieces together. Mona will provide latex gloves to prevent you touching the flux and solder. If you have any health issues which may be exacerbated by working with these materials\, please contact Mona to discuss this further.
URL:https://staging.hylandsestate.co.uk/events/beginners-stained-glass-workshop-3/2026-04-25/
LOCATION:The Stables\, Hylands Park\, London Rd\, Chelmsford\, Essex\, CM2 8WQ\, United Kingdom
CATEGORIES:Workshop
ATTACH;FMTTYPE=image/jpeg:https://staging.hylandsestate.co.uk/wp-content/uploads/2022/11/mona-stained-glass-2.jpg
ORGANIZER;CN="Mona Marnell":MAILTO:monamarnell@monamarnellglass.co.uk
GEO:51.7115035;0.4359197
X-APPLE-STRUCTURED-LOCATION;VALUE=URI;X-ADDRESS=The Stables Hylands Park London Rd Chelmsford Essex CM2 8WQ United Kingdom;X-APPLE-RADIUS=500;X-TITLE=Hylands Park\, London Rd:geo:0.4359197,51.7115035
END:VEVENT
END:VCALENDAR