BEGIN:VCALENDAR
VERSION:2.0
PRODID:-//Hylands Estate - ECPv6.15.20//NONSGML v1.0//EN
CALSCALE:GREGORIAN
METHOD:PUBLISH
X-WR-CALNAME:Hylands Estate
X-ORIGINAL-URL:https://staging.hylandsestate.co.uk
X-WR-CALDESC:Events for Hylands Estate
REFRESH-INTERVAL;VALUE=DURATION:PT1H
X-Robots-Tag:noindex
X-PUBLISHED-TTL:PT1H
BEGIN:VTIMEZONE
TZID:Europe/London
BEGIN:DAYLIGHT
TZOFFSETFROM:+0000
TZOFFSETTO:+0100
TZNAME:BST
DTSTART:20250330T010000
END:DAYLIGHT
BEGIN:STANDARD
TZOFFSETFROM:+0100
TZOFFSETTO:+0000
TZNAME:GMT
DTSTART:20251026T010000
END:STANDARD
BEGIN:DAYLIGHT
TZOFFSETFROM:+0000
TZOFFSETTO:+0100
TZNAME:BST
DTSTART:20260329T010000
END:DAYLIGHT
BEGIN:STANDARD
TZOFFSETFROM:+0100
TZOFFSETTO:+0000
TZNAME:GMT
DTSTART:20261025T010000
END:STANDARD
BEGIN:DAYLIGHT
TZOFFSETFROM:+0000
TZOFFSETTO:+0100
TZNAME:BST
DTSTART:20270328T010000
END:DAYLIGHT
BEGIN:STANDARD
TZOFFSETFROM:+0100
TZOFFSETTO:+0000
TZNAME:GMT
DTSTART:20271031T010000
END:STANDARD
END:VTIMEZONE
BEGIN:VEVENT
DTSTART;TZID=Europe/London:20260419T100000
DTEND;TZID=Europe/London:20260419T130000
DTSTAMP:20260419T161205
CREATED:20221005T120736Z
LAST-MODIFIED:20250827T113322Z
UID:10001205-1776592800-1776603600@staging.hylandsestate.co.uk
SUMMARY:Jewellery Making - Set of 3 Stacking Rings
DESCRIPTION:If you love the idea of making your own jewellery or perhaps designing your own wedding rings\, our Jewellery Making Workshops could be the perfect choice for you. Hosted by Tanya at her beautiful studio\, these workshops make wonderful gifts for those who love to accessorise with handmade jewellery. \nWith over 21-years of experience in designing and crafting bespoke pieces of jewellery\, Tanya has a wealth of knowledge that she would be delighted to share with you. During your session\, she will teach you the fundamentals of jewellery making\, and guide you through the process of making your own sterling silver jewellery. \nFun and informal\, TLK Jewellery Making Workshops & Lessons are great fun for all ages over 18 and abilities. \n\nSee image below for just some of the other jewellery making sessions available\nFrom £90 per person for a 3hr session\n4 people maximum per session (2 people minimum)\nPrices include materials\, car parking and refreshments.\n\n\nView all of Tanya’s Jewellery Making Workshops
URL:https://staging.hylandsestate.co.uk/events/jewellery-making-stacking-rings/2026-04-19/1/
LOCATION:The Stables\, Hylands Park\, London Rd\, Chelmsford\, Essex\, CM2 8WQ\, United Kingdom
CATEGORIES:Workshop
ATTACH;FMTTYPE=image/png:https://staging.hylandsestate.co.uk/wp-content/uploads/2022/01/tanya-rings.png
ORGANIZER;CN="Tanya Krackowizer":MAILTO:tanya@tlkjewellery.com
GEO:51.7115035;0.4359197
X-APPLE-STRUCTURED-LOCATION;VALUE=URI;X-ADDRESS=The Stables Hylands Park London Rd Chelmsford Essex CM2 8WQ United Kingdom;X-APPLE-RADIUS=500;X-TITLE=Hylands Park\, London Rd:geo:0.4359197,51.7115035
END:VEVENT
BEGIN:VEVENT
DTSTART;TZID=Europe/London:20260419T140000
DTEND;TZID=Europe/London:20260419T170000
DTSTAMP:20260419T161205
CREATED:20221005T120736Z
LAST-MODIFIED:20250827T113322Z
UID:10001206-1776607200-1776618000@staging.hylandsestate.co.uk
SUMMARY:Jewellery Making - Set of 3 Stacking Rings
DESCRIPTION:If you love the idea of making your own jewellery or perhaps designing your own wedding rings\, our Jewellery Making Workshops could be the perfect choice for you. Hosted by Tanya at her beautiful studio\, these workshops make wonderful gifts for those who love to accessorise with handmade jewellery. \nWith over 21-years of experience in designing and crafting bespoke pieces of jewellery\, Tanya has a wealth of knowledge that she would be delighted to share with you. During your session\, she will teach you the fundamentals of jewellery making\, and guide you through the process of making your own sterling silver jewellery. \nFun and informal\, TLK Jewellery Making Workshops & Lessons are great fun for all ages over 18 and abilities. \n\nSee image below for just some of the other jewellery making sessions available\nFrom £90 per person for a 3hr session\n4 people maximum per session (2 people minimum)\nPrices include materials\, car parking and refreshments.\n\n\nView all of Tanya’s Jewellery Making Workshops
URL:https://staging.hylandsestate.co.uk/events/jewellery-making-stacking-rings/2026-04-19/2/
LOCATION:The Stables\, Hylands Park\, London Rd\, Chelmsford\, Essex\, CM2 8WQ\, United Kingdom
CATEGORIES:Workshop
ATTACH;FMTTYPE=image/png:https://staging.hylandsestate.co.uk/wp-content/uploads/2022/01/tanya-rings.png
ORGANIZER;CN="Tanya Krackowizer":MAILTO:tanya@tlkjewellery.com
GEO:51.7115035;0.4359197
X-APPLE-STRUCTURED-LOCATION;VALUE=URI;X-ADDRESS=The Stables Hylands Park London Rd Chelmsford Essex CM2 8WQ United Kingdom;X-APPLE-RADIUS=500;X-TITLE=Hylands Park\, London Rd:geo:0.4359197,51.7115035
END:VEVENT
END:VCALENDAR